BEGIN:VCALENDAR
VERSION:2.0
PRODID:-//wp-events-plugin.com//7.2.3.1//EN
TZID:Europe/Prague
X-WR-TIMEZONE:Europe/Prague
BEGIN:VEVENT
UID:6289@praha5.cz
DTSTART;TZID=Europe/Prague:20260421T080000
DTEND;TZID=Europe/Prague:20260421T180000
DTSTAMP:20260413T074822Z
URL:https://www.praha5.cz/udalosti/uterni-farmarske-trhy-se-vraceji/
SUMMARY:Úterní farmářské trhy se vracejí
DESCRIPTION:Úterní farmářské trhy se po zimní pauze vracejí na Andě
 l. Nakupovat můžete od 21. dubna mezi 8. a 18. hodinou.\n\n&nbsp\;\n\n
END:VEVENT
BEGIN:VTIMEZONE
TZID:Europe/Prague
X-LIC-LOCATION:Europe/Prague
BEGIN:DAYLIGHT
DTSTART:20260329T030000
TZOFFSETFROM:+0100
TZOFFSETTO:+0200
TZNAME:CEST
END:DAYLIGHT
END:VTIMEZONE
END:VCALENDAR