BEGIN:VCALENDAR
VERSION:2.0
PRODID:-//wp-events-plugin.com//7.2.3.1//EN
TZID:Europe/Prague
X-WR-TIMEZONE:Europe/Prague
BEGIN:VEVENT
UID:6125@praha5.cz
DTSTART;TZID=Europe/Prague:20251225T160000
DTEND;TZID=Europe/Prague:20251225T160000
DTSTAMP:20251215T111303Z
URL:https://www.praha5.cz/udalosti/sv-vaclava-rozezni-rybova-mse/
SUMMARY:Sv. Václava rozezní Rybova mše
DESCRIPTION:Kostel sv. Václava na Smíchově rozezní ve čtvrtek 25. pros
 ince od 16 hodin Česká mše vánoční Hej mistře... Jakuba Jana Ryby.
   Vystoupí Jana Koucká - soprán\, Lucie Hilscherová - alt\, Ondřej H
 olub - tenor\, Jan Morávek - bas\, Linda Sítková - varhany\, Komorní s
 bor a orchestr Bach-Collegia Praha pod vedením dirigenta Jiřího Mátla.
  \n\n&nbsp\;\n\n
CATEGORIES:Kultura
END:VEVENT
BEGIN:VTIMEZONE
TZID:Europe/Prague
X-LIC-LOCATION:Europe/Prague
BEGIN:STANDARD
DTSTART:20251026T020000
TZOFFSETFROM:+0200
TZOFFSETTO:+0100
TZNAME:CET
END:STANDARD
END:VTIMEZONE
END:VCALENDAR